BEGIN:VCALENDAR
VERSION:2.0
PRODID:-//Writers&#039; Room of Boston - ECPv6.15.20//NONSGML v1.0//EN
CALSCALE:GREGORIAN
METHOD:PUBLISH
X-ORIGINAL-URL:https://writersroomofboston.org
X-WR-CALDESC:Events for Writers&#039; Room of Boston
REFRESH-INTERVAL;VALUE=DURATION:PT1H
X-Robots-Tag:noindex
X-PUBLISHED-TTL:PT1H
BEGIN:VTIMEZONE
TZID:America/New_York
BEGIN:DAYLIGHT
TZOFFSETFROM:-0500
TZOFFSETTO:-0400
TZNAME:EDT
DTSTART:19690427T070000
END:DAYLIGHT
BEGIN:STANDARD
TZOFFSETFROM:-0400
TZOFFSETTO:-0500
TZNAME:EST
DTSTART:19691026T060000
END:STANDARD
BEGIN:DAYLIGHT
TZOFFSETFROM:-0500
TZOFFSETTO:-0400
TZNAME:EDT
DTSTART:19700426T070000
END:DAYLIGHT
BEGIN:STANDARD
TZOFFSETFROM:-0400
TZOFFSETTO:-0500
TZNAME:EST
DTSTART:19701025T060000
END:STANDARD
BEGIN:DAYLIGHT
TZOFFSETFROM:-0500
TZOFFSETTO:-0400
TZNAME:EDT
DTSTART:19710425T070000
END:DAYLIGHT
BEGIN:STANDARD
TZOFFSETFROM:-0400
TZOFFSETTO:-0500
TZNAME:EST
DTSTART:19711031T060000
END:STANDARD
BEGIN:DAYLIGHT
TZOFFSETFROM:-0500
TZOFFSETTO:-0400
TZNAME:EDT
DTSTART:19720430T070000
END:DAYLIGHT
BEGIN:STANDARD
TZOFFSETFROM:-0400
TZOFFSETTO:-0500
TZNAME:EST
DTSTART:19721029T060000
END:STANDARD
BEGIN:DAYLIGHT
TZOFFSETFROM:-0500
TZOFFSETTO:-0400
TZNAME:EDT
DTSTART:19730429T070000
END:DAYLIGHT
BEGIN:STANDARD
TZOFFSETFROM:-0400
TZOFFSETTO:-0500
TZNAME:EST
DTSTART:19731028T060000
END:STANDARD
BEGIN:DAYLIGHT
TZOFFSETFROM:-0500
TZOFFSETTO:-0400
TZNAME:EDT
DTSTART:19740106T070000
END:DAYLIGHT
BEGIN:STANDARD
TZOFFSETFROM:-0400
TZOFFSETTO:-0500
TZNAME:EST
DTSTART:19741027T060000
END:STANDARD
BEGIN:DAYLIGHT
TZOFFSETFROM:-0500
TZOFFSETTO:-0400
TZNAME:EDT
DTSTART:19750223T070000
END:DAYLIGHT
BEGIN:STANDARD
TZOFFSETFROM:-0400
TZOFFSETTO:-0500
TZNAME:EST
DTSTART:19751026T060000
END:STANDARD
BEGIN:DAYLIGHT
TZOFFSETFROM:-0500
TZOFFSETTO:-0400
TZNAME:EDT
DTSTART:19760425T070000
END:DAYLIGHT
BEGIN:STANDARD
TZOFFSETFROM:-0400
TZOFFSETTO:-0500
TZNAME:EST
DTSTART:19761031T060000
END:STANDARD
BEGIN:DAYLIGHT
TZOFFSETFROM:-0500
TZOFFSETTO:-0400
TZNAME:EDT
DTSTART:19770424T070000
END:DAYLIGHT
BEGIN:STANDARD
TZOFFSETFROM:-0400
TZOFFSETTO:-0500
TZNAME:EST
DTSTART:19771030T060000
END:STANDARD
BEGIN:DAYLIGHT
TZOFFSETFROM:-0500
TZOFFSETTO:-0400
TZNAME:EDT
DTSTART:19780430T070000
END:DAYLIGHT
BEGIN:STANDARD
TZOFFSETFROM:-0400
TZOFFSETTO:-0500
TZNAME:EST
DTSTART:19781029T060000
END:STANDARD
BEGIN:DAYLIGHT
TZOFFSETFROM:-0500
TZOFFSETTO:-0400
TZNAME:EDT
DTSTART:19790429T070000
END:DAYLIGHT
BEGIN:STANDARD
TZOFFSETFROM:-0400
TZOFFSETTO:-0500
TZNAME:EST
DTSTART:19791028T060000
END:STANDARD
BEGIN:DAYLIGHT
TZOFFSETFROM:-0500
TZOFFSETTO:-0400
TZNAME:EDT
DTSTART:19800427T070000
END:DAYLIGHT
BEGIN:STANDARD
TZOFFSETFROM:-0400
TZOFFSETTO:-0500
TZNAME:EST
DTSTART:19801026T060000
END:STANDARD
BEGIN:DAYLIGHT
TZOFFSETFROM:-0500
TZOFFSETTO:-0400
TZNAME:EDT
DTSTART:19810426T070000
END:DAYLIGHT
BEGIN:STANDARD
TZOFFSETFROM:-0400
TZOFFSETTO:-0500
TZNAME:EST
DTSTART:19811025T060000
END:STANDARD
BEGIN:DAYLIGHT
TZOFFSETFROM:-0500
TZOFFSETTO:-0400
TZNAME:EDT
DTSTART:19820425T070000
END:DAYLIGHT
BEGIN:STANDARD
TZOFFSETFROM:-0400
TZOFFSETTO:-0500
TZNAME:EST
DTSTART:19821031T060000
END:STANDARD
BEGIN:DAYLIGHT
TZOFFSETFROM:-0500
TZOFFSETTO:-0400
TZNAME:EDT
DTSTART:19830424T070000
END:DAYLIGHT
BEGIN:STANDARD
TZOFFSETFROM:-0400
TZOFFSETTO:-0500
TZNAME:EST
DTSTART:19831030T060000
END:STANDARD
BEGIN:DAYLIGHT
TZOFFSETFROM:-0500
TZOFFSETTO:-0400
TZNAME:EDT
DTSTART:19840429T070000
END:DAYLIGHT
BEGIN:STANDARD
TZOFFSETFROM:-0400
TZOFFSETTO:-0500
TZNAME:EST
DTSTART:19841028T060000
END:STANDARD
BEGIN:DAYLIGHT
TZOFFSETFROM:-0500
TZOFFSETTO:-0400
TZNAME:EDT
DTSTART:19850428T070000
END:DAYLIGHT
BEGIN:STANDARD
TZOFFSETFROM:-0400
TZOFFSETTO:-0500
TZNAME:EST
DTSTART:19851027T060000
END:STANDARD
BEGIN:DAYLIGHT
TZOFFSETFROM:-0500
TZOFFSETTO:-0400
TZNAME:EDT
DTSTART:19860427T070000
END:DAYLIGHT
BEGIN:STANDARD
TZOFFSETFROM:-0400
TZOFFSETTO:-0500
TZNAME:EST
DTSTART:19861026T060000
END:STANDARD
BEGIN:DAYLIGHT
TZOFFSETFROM:-0500
TZOFFSETTO:-0400
TZNAME:EDT
DTSTART:19870405T070000
END:DAYLIGHT
BEGIN:STANDARD
TZOFFSETFROM:-0400
TZOFFSETTO:-0500
TZNAME:EST
DTSTART:19871025T060000
END:STANDARD
BEGIN:DAYLIGHT
TZOFFSETFROM:-0500
TZOFFSETTO:-0400
TZNAME:EDT
DTSTART:19880403T070000
END:DAYLIGHT
BEGIN:STANDARD
TZOFFSETFROM:-0400
TZOFFSETTO:-0500
TZNAME:EST
DTSTART:19881030T060000
END:STANDARD
BEGIN:DAYLIGHT
TZOFFSETFROM:-0500
TZOFFSETTO:-0400
TZNAME:EDT
DTSTART:19890402T070000
END:DAYLIGHT
BEGIN:STANDARD
TZOFFSETFROM:-0400
TZOFFSETTO:-0500
TZNAME:EST
DTSTART:19891029T060000
END:STANDARD
BEGIN:DAYLIGHT
TZOFFSETFROM:-0500
TZOFFSETTO:-0400
TZNAME:EDT
DTSTART:19900401T070000
END:DAYLIGHT
BEGIN:STANDARD
TZOFFSETFROM:-0400
TZOFFSETTO:-0500
TZNAME:EST
DTSTART:19901028T060000
END:STANDARD
BEGIN:DAYLIGHT
TZOFFSETFROM:-0500
TZOFFSETTO:-0400
TZNAME:EDT
DTSTART:19910407T070000
END:DAYLIGHT
BEGIN:STANDARD
TZOFFSETFROM:-0400
TZOFFSETTO:-0500
TZNAME:EST
DTSTART:19911027T060000
END:STANDARD
BEGIN:DAYLIGHT
TZOFFSETFROM:-0500
TZOFFSETTO:-0400
TZNAME:EDT
DTSTART:19920405T070000
END:DAYLIGHT
BEGIN:STANDARD
TZOFFSETFROM:-0400
TZOFFSETTO:-0500
TZNAME:EST
DTSTART:19921025T060000
END:STANDARD
BEGIN:DAYLIGHT
TZOFFSETFROM:-0500
TZOFFSETTO:-0400
TZNAME:EDT
DTSTART:19930404T070000
END:DAYLIGHT
BEGIN:STANDARD
TZOFFSETFROM:-0400
TZOFFSETTO:-0500
TZNAME:EST
DTSTART:19931031T060000
END:STANDARD
BEGIN:DAYLIGHT
TZOFFSETFROM:-0500
TZOFFSETTO:-0400
TZNAME:EDT
DTSTART:19940403T070000
END:DAYLIGHT
BEGIN:STANDARD
TZOFFSETFROM:-0400
TZOFFSETTO:-0500
TZNAME:EST
DTSTART:19941030T060000
END:STANDARD
BEGIN:DAYLIGHT
TZOFFSETFROM:-0500
TZOFFSETTO:-0400
TZNAME:EDT
DTSTART:19950402T070000
END:DAYLIGHT
BEGIN:STANDARD
TZOFFSETFROM:-0400
TZOFFSETTO:-0500
TZNAME:EST
DTSTART:19951029T060000
END:STANDARD
BEGIN:DAYLIGHT
TZOFFSETFROM:-0500
TZOFFSETTO:-0400
TZNAME:EDT
DTSTART:19960407T070000
END:DAYLIGHT
BEGIN:STANDARD
TZOFFSETFROM:-0400
TZOFFSETTO:-0500
TZNAME:EST
DTSTART:19961027T060000
END:STANDARD
BEGIN:DAYLIGHT
TZOFFSETFROM:-0500
TZOFFSETTO:-0400
TZNAME:EDT
DTSTART:19970406T070000
END:DAYLIGHT
BEGIN:STANDARD
TZOFFSETFROM:-0400
TZOFFSETTO:-0500
TZNAME:EST
DTSTART:19971026T060000
END:STANDARD
BEGIN:DAYLIGHT
TZOFFSETFROM:-0500
TZOFFSETTO:-0400
TZNAME:EDT
DTSTART:19980405T070000
END:DAYLIGHT
BEGIN:STANDARD
TZOFFSETFROM:-0400
TZOFFSETTO:-0500
TZNAME:EST
DTSTART:19981025T060000
END:STANDARD
BEGIN:DAYLIGHT
TZOFFSETFROM:-0500
TZOFFSETTO:-0400
TZNAME:EDT
DTSTART:19990404T070000
END:DAYLIGHT
BEGIN:STANDARD
TZOFFSETFROM:-0400
TZOFFSETTO:-0500
TZNAME:EST
DTSTART:19991031T060000
END:STANDARD
BEGIN:DAYLIGHT
TZOFFSETFROM:-0500
TZOFFSETTO:-0400
TZNAME:EDT
DTSTART:20000402T070000
END:DAYLIGHT
BEGIN:STANDARD
TZOFFSETFROM:-0400
TZOFFSETTO:-0500
TZNAME:EST
DTSTART:20001029T060000
END:STANDARD
BEGIN:DAYLIGHT
TZOFFSETFROM:-0500
TZOFFSETTO:-0400
TZNAME:EDT
DTSTART:20010401T070000
END:DAYLIGHT
BEGIN:STANDARD
TZOFFSETFROM:-0400
TZOFFSETTO:-0500
TZNAME:EST
DTSTART:20011028T060000
END:STANDARD
BEGIN:DAYLIGHT
TZOFFSETFROM:-0500
TZOFFSETTO:-0400
TZNAME:EDT
DTSTART:20020407T070000
END:DAYLIGHT
BEGIN:STANDARD
TZOFFSETFROM:-0400
TZOFFSETTO:-0500
TZNAME:EST
DTSTART:20021027T060000
END:STANDARD
BEGIN:DAYLIGHT
TZOFFSETFROM:-0500
TZOFFSETTO:-0400
TZNAME:EDT
DTSTART:20030406T070000
END:DAYLIGHT
BEGIN:STANDARD
TZOFFSETFROM:-0400
TZOFFSETTO:-0500
TZNAME:EST
DTSTART:20031026T060000
END:STANDARD
BEGIN:DAYLIGHT
TZOFFSETFROM:-0500
TZOFFSETTO:-0400
TZNAME:EDT
DTSTART:20040404T070000
END:DAYLIGHT
BEGIN:STANDARD
TZOFFSETFROM:-0400
TZOFFSETTO:-0500
TZNAME:EST
DTSTART:20041031T060000
END:STANDARD
BEGIN:DAYLIGHT
TZOFFSETFROM:-0500
TZOFFSETTO:-0400
TZNAME:EDT
DTSTART:20050403T070000
END:DAYLIGHT
BEGIN:STANDARD
TZOFFSETFROM:-0400
TZOFFSETTO:-0500
TZNAME:EST
DTSTART:20051030T060000
END:STANDARD
BEGIN:DAYLIGHT
TZOFFSETFROM:-0500
TZOFFSETTO:-0400
TZNAME:EDT
DTSTART:20060402T070000
END:DAYLIGHT
BEGIN:STANDARD
TZOFFSETFROM:-0400
TZOFFSETTO:-0500
TZNAME:EST
DTSTART:20061029T060000
END:STANDARD
BEGIN:DAYLIGHT
TZOFFSETFROM:-0500
TZOFFSETTO:-0400
TZNAME:EDT
DTSTART:20070311T070000
END:DAYLIGHT
BEGIN:STANDARD
TZOFFSETFROM:-0400
TZOFFSETTO:-0500
TZNAME:EST
DTSTART:20071104T060000
END:STANDARD
BEGIN:DAYLIGHT
TZOFFSETFROM:-0500
TZOFFSETTO:-0400
TZNAME:EDT
DTSTART:20080309T070000
END:DAYLIGHT
BEGIN:STANDARD
TZOFFSETFROM:-0400
TZOFFSETTO:-0500
TZNAME:EST
DTSTART:20081102T060000
END:STANDARD
BEGIN:DAYLIGHT
TZOFFSETFROM:-0500
TZOFFSETTO:-0400
TZNAME:EDT
DTSTART:20090308T070000
END:DAYLIGHT
BEGIN:STANDARD
TZOFFSETFROM:-0400
TZOFFSETTO:-0500
TZNAME:EST
DTSTART:20091101T060000
END:STANDARD
BEGIN:DAYLIGHT
TZOFFSETFROM:-0500
TZOFFSETTO:-0400
TZNAME:EDT
DTSTART:20100314T070000
END:DAYLIGHT
BEGIN:STANDARD
TZOFFSETFROM:-0400
TZOFFSETTO:-0500
TZNAME:EST
DTSTART:20101107T060000
END:STANDARD
BEGIN:DAYLIGHT
TZOFFSETFROM:-0500
TZOFFSETTO:-0400
TZNAME:EDT
DTSTART:20110313T070000
END:DAYLIGHT
BEGIN:STANDARD
TZOFFSETFROM:-0400
TZOFFSETTO:-0500
TZNAME:EST
DTSTART:20111106T060000
END:STANDARD
BEGIN:DAYLIGHT
TZOFFSETFROM:-0500
TZOFFSETTO:-0400
TZNAME:EDT
DTSTART:20120311T070000
END:DAYLIGHT
BEGIN:STANDARD
TZOFFSETFROM:-0400
TZOFFSETTO:-0500
TZNAME:EST
DTSTART:20121104T060000
END:STANDARD
BEGIN:DAYLIGHT
TZOFFSETFROM:-0500
TZOFFSETTO:-0400
TZNAME:EDT
DTSTART:20130310T070000
END:DAYLIGHT
BEGIN:STANDARD
TZOFFSETFROM:-0400
TZOFFSETTO:-0500
TZNAME:EST
DTSTART:20131103T060000
END:STANDARD
BEGIN:DAYLIGHT
TZOFFSETFROM:-0500
TZOFFSETTO:-0400
TZNAME:EDT
DTSTART:20140309T070000
END:DAYLIGHT
BEGIN:STANDARD
TZOFFSETFROM:-0400
TZOFFSETTO:-0500
TZNAME:EST
DTSTART:20141102T060000
END:STANDARD
BEGIN:DAYLIGHT
TZOFFSETFROM:-0500
TZOFFSETTO:-0400
TZNAME:EDT
DTSTART:20150308T070000
END:DAYLIGHT
BEGIN:STANDARD
TZOFFSETFROM:-0400
TZOFFSETTO:-0500
TZNAME:EST
DTSTART:20151101T060000
END:STANDARD
BEGIN:DAYLIGHT
TZOFFSETFROM:-0500
TZOFFSETTO:-0400
TZNAME:EDT
DTSTART:20160313T070000
END:DAYLIGHT
BEGIN:STANDARD
TZOFFSETFROM:-0400
TZOFFSETTO:-0500
TZNAME:EST
DTSTART:20161106T060000
END:STANDARD
BEGIN:DAYLIGHT
TZOFFSETFROM:-0500
TZOFFSETTO:-0400
TZNAME:EDT
DTSTART:20170312T070000
END:DAYLIGHT
BEGIN:STANDARD
TZOFFSETFROM:-0400
TZOFFSETTO:-0500
TZNAME:EST
DTSTART:20171105T060000
END:STANDARD
BEGIN:DAYLIGHT
TZOFFSETFROM:-0500
TZOFFSETTO:-0400
TZNAME:EDT
DTSTART:20180311T070000
END:DAYLIGHT
BEGIN:STANDARD
TZOFFSETFROM:-0400
TZOFFSETTO:-0500
TZNAME:EST
DTSTART:20181104T060000
END:STANDARD
BEGIN:DAYLIGHT
TZOFFSETFROM:-0500
TZOFFSETTO:-0400
TZNAME:EDT
DTSTART:20190310T070000
END:DAYLIGHT
BEGIN:STANDARD
TZOFFSETFROM:-0400
TZOFFSETTO:-0500
TZNAME:EST
DTSTART:20191103T060000
END:STANDARD
BEGIN:DAYLIGHT
TZOFFSETFROM:-0500
TZOFFSETTO:-0400
TZNAME:EDT
DTSTART:20200308T070000
END:DAYLIGHT
BEGIN:STANDARD
TZOFFSETFROM:-0400
TZOFFSETTO:-0500
TZNAME:EST
DTSTART:20201101T060000
END:STANDARD
BEGIN:DAYLIGHT
TZOFFSETFROM:-0500
TZOFFSETTO:-0400
TZNAME:EDT
DTSTART:20210314T070000
END:DAYLIGHT
BEGIN:STANDARD
TZOFFSETFROM:-0400
TZOFFSETTO:-0500
TZNAME:EST
DTSTART:20211107T060000
END:STANDARD
BEGIN:DAYLIGHT
TZOFFSETFROM:-0500
TZOFFSETTO:-0400
TZNAME:EDT
DTSTART:20220313T070000
END:DAYLIGHT
BEGIN:STANDARD
TZOFFSETFROM:-0400
TZOFFSETTO:-0500
TZNAME:EST
DTSTART:20221106T060000
END:STANDARD
BEGIN:DAYLIGHT
TZOFFSETFROM:-0500
TZOFFSETTO:-0400
TZNAME:EDT
DTSTART:20230312T070000
END:DAYLIGHT
BEGIN:STANDARD
TZOFFSETFROM:-0400
TZOFFSETTO:-0500
TZNAME:EST
DTSTART:20231105T060000
END:STANDARD
BEGIN:DAYLIGHT
TZOFFSETFROM:-0500
TZOFFSETTO:-0400
TZNAME:EDT
DTSTART:20240310T070000
END:DAYLIGHT
BEGIN:STANDARD
TZOFFSETFROM:-0400
TZOFFSETTO:-0500
TZNAME:EST
DTSTART:20241103T060000
END:STANDARD
BEGIN:DAYLIGHT
TZOFFSETFROM:-0500
TZOFFSETTO:-0400
TZNAME:EDT
DTSTART:20250309T070000
END:DAYLIGHT
BEGIN:STANDARD
TZOFFSETFROM:-0400
TZOFFSETTO:-0500
TZNAME:EST
DTSTART:20251102T060000
END:STANDARD
BEGIN:DAYLIGHT
TZOFFSETFROM:-0500
TZOFFSETTO:-0400
TZNAME:EDT
DTSTART:20260308T070000
END:DAYLIGHT
BEGIN:STANDARD
TZOFFSETFROM:-0400
TZOFFSETTO:-0500
TZNAME:EST
DTSTART:20261101T060000
END:STANDARD
BEGIN:DAYLIGHT
TZOFFSETFROM:-0500
TZOFFSETTO:-0400
TZNAME:EDT
DTSTART:20270314T070000
END:DAYLIGHT
BEGIN:STANDARD
TZOFFSETFROM:-0400
TZOFFSETTO:-0500
TZNAME:EST
DTSTART:20271107T060000
END:STANDARD
END:VTIMEZONE
BEGIN:VEVENT
DTSTART;TZID=America/New_York:20260424T175836
DTEND;TZID=America/New_York:20260419T180000
DTSTAMP:20260424T175836
CREATED:20260328T190108Z
LAST-MODIFIED:20260328T190108Z
UID:22812-0-1776621600@writersroomofboston.org
SUMMARY:Open House\, Sunday April 19 3-6 PM
DESCRIPTION:Join us for our Open House\, Sunday\, April 19 from 3 – 6 PM and you’re invited. Join Us for Our Open House! \nWe’re super excited to invite you to our Open House. It’s a great chance to explore\, meet some of our members and fellows and see what we’re all about—IRL! \nCome hang out\, ask questions\, and get a feel for the vibe. Whether you’re curious or just want to say hi\, we’d love to have you stop by. Bring a guest. All are welcome. Free. \nDon’t miss out! Register through the link.
URL:https://writersroomofboston.org/event/open-house-sunday-april-19-3-6-pm/
CATEGORIES:In-person / in the Room
ORGANIZER;CN="Leslie Ostrow":MAILTO:info@writersroomofboston.org
END:VEVENT
BEGIN:VEVENT
DTSTART;TZID=America/New_York:20251103T190000
DTEND;TZID=America/New_York:20251103T203000
DTSTAMP:20260424T175836
CREATED:20251017T235134Z
LAST-MODIFIED:20251017T235134Z
UID:22550-1762196400-1762201800@writersroomofboston.org
SUMMARY:Fiction Feedback Group
DESCRIPTION:You’ve probably joined a critique group where others took turns dissecting your writing\, pointing out things that did and didn’t work\, and where you\, the writer\, took notes and said nothing. This is different. The emphasis will be on literary fiction as defined very broadly. This includes writing that blurs the boundary between genre fiction and ‘pure’ literary fiction\, between realism and surrealism and speculative fiction. \nThe group will meet remotely (on Zoom) for 90 minutes monthly. There will also be opportunities to meet in-person at the Writers’ Room. \nThe Fiction Feedback Group is organized and led by Paul Farwell whose short stories have appeared in Chicago Quarterly Review\, The Antioch Review\, Salt Hill Journal\, Willow Springs\, and Catamaran Literary Reader. He also serves as a reader for Chicago Quarterly Review. He currently lives in Watertown with his wife and their dog\, Edgar Allan Pug. \nThe group will be limited to 10 people. Writing submissions can be a short story\, a novel excerpt or a fragment of either\, as long as they are less than 5000 words. We will use an online tool (Google Docs or an equivalent) to share our work and supply line edits (if requested). \nThis is a members only opportunity.
URL:https://writersroomofboston.org/event/fiction-feedback-group-2/
CATEGORIES:On-line
END:VEVENT
BEGIN:VEVENT
DTSTART;TZID=America/New_York:20251106T181500
DTEND;TZID=America/New_York:20251106T200000
DTSTAMP:20260424T175836
CREATED:20251104T015010Z
LAST-MODIFIED:20251104T015139Z
UID:22570-1762452900-1762459200@writersroomofboston.org
SUMMARY:Write-In 6:15pm 11-6-25
DESCRIPTION:November 6 @6:15 till 8\nThe Write-In! \nNovember 6 @ 6:15pm – 8pm \nCome and meet fellow writers for conversation and refreshments\, followed by writing exercises with prompts. This week we are working on plot. Come and be inspired at our cosy space in the heart of Boston. (In this friendly atmosphere you can share your work or not.)\nFree to members\, $12 nonmembers\, $5 students / low-income \nIn-person. Thursdays 6:15 – 8pm. Writers’ Room of Boston\, 111 State Street\, Boston.
URL:https://writersroomofboston.org/event/write-in-615pm-11-6-25/
LOCATION:Writers’ Room of Boston\, 111 State Street\, Boston\, 02109\, United States
CATEGORIES:In-person / in the Room
ORGANIZER;CN="Leslie Ostrow":MAILTO:info@writersroomofboston.org
END:VEVENT
BEGIN:VEVENT
DTSTART;TZID=America/New_York:20251108T150000
DTEND;TZID=America/New_York:20251108T170000
DTSTAMP:20260424T175836
CREATED:20251021T163132Z
LAST-MODIFIED:20251021T163132Z
UID:22558-1762614000-1762621200@writersroomofboston.org
SUMMARY:Open House 11-8-25 @ 3pm
DESCRIPTION:Join us! The Fall Open House @ the Writers’ Room of Boston.111 State Street\, Boston. All are welcome.
URL:https://writersroomofboston.org/event/open-house-11-8-25-3pm/
LOCATION:Writers’ Room of Boston\, 111 State Street\, Boston\, 02109\, United States
CATEGORIES:In-person / in the Room
ORGANIZER;CN="Leslie Ostrow":MAILTO:info@writersroomofboston.org
END:VEVENT
BEGIN:VEVENT
DTSTART;TZID=America/New_York:20251113T181500
DTEND;TZID=America/New_York:20251113T200000
DTSTAMP:20260424T175836
CREATED:20251107T175356Z
LAST-MODIFIED:20251110T010827Z
UID:22589-1763057700-1763064000@writersroomofboston.org
SUMMARY:Write-In 6/13/25 @ 6:15 pm
DESCRIPTION:Join us for an evening of creative camaraderie at the Write-In — a fun\, pressure-free space to shake off perfectionism and get your words flowing. This week we will be working on dialogue. Through a series of playful\, time-limited writing prompts\, you’ll stretch your imagination\, invent eccentric characters\, and rediscover the joy of writing for its own sake. Then\, settle in for a peaceful 45-minute silent writing session surrounded by fellow writers\, followed by optional readings (applause only — no critique\, ever!). Whether you’re a seasoned novelist or writeThas a hobby\, this is your midweek creative recharge. Supportive\, low-stakes\, yet inspirational. Bring your notebook\, your favorite pen\, and your wildest ideas! \n$12 non-member/$5 student & low-income/free to members
URL:https://writersroomofboston.org/event/write-in-6-15-25-615-pm/
LOCATION:Writers’ Room of Boston\, 111 State Street\, Boston\, 02109\, United States
CATEGORIES:In-person / in the Room
ORGANIZER;CN="Leslie Ostrow":MAILTO:info@writersroomofboston.org
END:VEVENT
BEGIN:VEVENT
DTSTART;TZID=America/New_York:20251117T190000
DTEND;TZID=America/New_York:20251117T203000
DTSTAMP:20260424T175836
CREATED:20251017T235310Z
LAST-MODIFIED:20251017T235310Z
UID:22552-1763406000-1763411400@writersroomofboston.org
SUMMARY:Fiction Feedback Group
DESCRIPTION:You’ve probably joined a critique group where others took turns dissecting your writing\, pointing out things that did and didn’t work\, and where you\, the writer\, took notes and said nothing. This is different. The emphasis will be on literary fiction as defined very broadly. This includes writing that blurs the boundary between genre fiction and ‘pure’ literary fiction\, between realism and surrealism and speculative fiction. \nThe group will meet remotely (on Zoom) for 90 minutes monthly. There will also be opportunities to meet in-person at the Writers’ Room. \nThe Fiction Feedback Group is organized and led by Paul Farwell whose short stories have appeared in Chicago Quarterly Review\, The Antioch Review\, Salt Hill Journal\, Willow Springs\, and Catamaran Literary Reader. He also serves as a reader for Chicago Quarterly Review. He currently lives in Watertown with his wife and their dog\, Edgar Allan Pug. \nThe group will be limited to 10 people. Writing submissions can be a short story\, a novel excerpt or a fragment of either\, as long as they are less than 5000 words. We will use an online tool (Google Docs or an equivalent) to share our work and supply line edits (if requested). \nThis is a members only opportunity.
URL:https://writersroomofboston.org/event/fiction-feedback-group-3/
CATEGORIES:On-line
END:VEVENT
BEGIN:VEVENT
DTSTART;TZID=America/New_York:20251118T120000
DTEND;TZID=America/New_York:20251118T130000
DTSTAMP:20260424T175836
CREATED:20250829T190215Z
LAST-MODIFIED:20250829T190215Z
UID:22486-1763467200-1763470800@writersroomofboston.org
SUMMARY:Writing Workshop - November 18\, 2025 @ Noon
DESCRIPTION:This workshop will develop both your creativity and your craft. All genres welcome. Join us!\nWorkshop leader: WROB board member\, Evelyn Krieger.\nWe are the Writers’ Room of Boston – a workspace and a community of writers in downtown Boston. Serving the writing community since 1992.
URL:https://writersroomofboston.org/event/writing-workshop-november-18-2025-noon/
CATEGORIES:On-line
ORGANIZER;CN="Leslie Ostrow":MAILTO:info@writersroomofboston.org
END:VEVENT
BEGIN:VEVENT
DTSTART;TZID=America/New_York:20251120T181500
DTEND;TZID=America/New_York:20251120T200000
DTSTAMP:20260424T175836
CREATED:20251110T005626Z
LAST-MODIFIED:20251110T010742Z
UID:22606-1763662500-1763668800@writersroomofboston.org
SUMMARY:Write-In November 20th @ 6:15 PM
DESCRIPTION:Join us for an evening of creative camaraderie at the Write-In — a fun\, pressure-free space to shake off perfectionism and get your words flowing. This week we will be working on setting & world building. Through a series of playful\, time-limited writing prompts\, you’ll stretch your imagination\, invent eccentric characters\, and rediscover the joy of writing for its own sake. Then\, settle in for a peaceful 45-minute silent writing session surrounded by fellow writers\, followed by optional readings (applause only — no critique\, ever!). Whether you’re a seasoned novelist or write as a hobby\, this is your midweek creative recharge. Supportive\, low-stakes\, yet inspirational. Bring your notebook\, your favorite pen\, and your wildest ideas! \nNon-members $12/student & low-income $5 \nThis week the focus is setting & world building.
URL:https://writersroomofboston.org/event/write-in-november-20th-615-pm/
LOCATION:Writers’ Room of Boston\, 111 State Street\, Boston\, 02109\, United States
CATEGORIES:In-person / in the Room
ORGANIZER;CN="Leslie Ostrow":MAILTO:info@writersroomofboston.org
END:VEVENT
BEGIN:VEVENT
DTSTART;TZID=America/New_York:20251120T193000
DTEND;TZID=America/New_York:20251120T203000
DTSTAMP:20260424T175836
CREATED:20250829T221118Z
LAST-MODIFIED:20250914T212935Z
UID:22502-1763667000-1763670600@writersroomofboston.org
SUMMARY:Writers' Room After Hours - November 20\, 2025 @ 7:30
DESCRIPTION:The Writers’ Room After Hours focuses on the writing life. Everything you wanted to know – but were afraid to ask. This month with Gish Jen. \nGish Jen is the author of six novels\, two books of stories\, and two works of nonfiction. Her honors include fellowships from the Guggenheim Foundation\, the Radcliffe Institute for Advanced Study\, and the Fulbright Foundation\, as well as the Lannan Literary Award for Fiction and the Mildred and Harold Strauss Living Award from the American Academy of Arts and Letters. Her stories have been chosen for The Best American Short Stories five times\, including The Best American Short Stories of the Century. She lives with her husband in Cambridge\, Massachusetts. Bad Bad Girl is her latest novel. \nGish Jen will be interviewed by Mable Chan.
URL:https://writersroomofboston.org/event/writers-room-after-hours-november-19-2025-730/
CATEGORIES:On-line
ORGANIZER;CN="Leslie Ostrow":MAILTO:info@writersroomofboston.org
END:VEVENT
END:VCALENDAR