BEGIN:VCALENDAR
VERSION:2.0
PRODID:-//Writers&#039; Room of Boston - ECPv6.15.20//NONSGML v1.0//EN
CALSCALE:GREGORIAN
METHOD:PUBLISH
X-WR-CALNAME:Writers&#039; Room of Boston
X-ORIGINAL-URL:https://writersroomofboston.org
X-WR-CALDESC:Events for Writers&#039; Room of Boston
REFRESH-INTERVAL;VALUE=DURATION:PT1H
X-Robots-Tag:noindex
X-PUBLISHED-TTL:PT1H
BEGIN:VTIMEZONE
TZID:America/New_York
BEGIN:DAYLIGHT
TZOFFSETFROM:-0500
TZOFFSETTO:-0400
TZNAME:EDT
DTSTART:20240310T070000
END:DAYLIGHT
BEGIN:STANDARD
TZOFFSETFROM:-0400
TZOFFSETTO:-0500
TZNAME:EST
DTSTART:20241103T060000
END:STANDARD
BEGIN:DAYLIGHT
TZOFFSETFROM:-0500
TZOFFSETTO:-0400
TZNAME:EDT
DTSTART:20250309T070000
END:DAYLIGHT
BEGIN:STANDARD
TZOFFSETFROM:-0400
TZOFFSETTO:-0500
TZNAME:EST
DTSTART:20251102T060000
END:STANDARD
BEGIN:DAYLIGHT
TZOFFSETFROM:-0500
TZOFFSETTO:-0400
TZNAME:EDT
DTSTART:20260308T070000
END:DAYLIGHT
BEGIN:STANDARD
TZOFFSETFROM:-0400
TZOFFSETTO:-0500
TZNAME:EST
DTSTART:20261101T060000
END:STANDARD
END:VTIMEZONE
BEGIN:VTIMEZONE
TZID:UTC
BEGIN:STANDARD
TZOFFSETFROM:+0000
TZOFFSETTO:+0000
TZNAME:UTC
DTSTART:20240101T000000
END:STANDARD
END:VTIMEZONE
BEGIN:VEVENT
DTSTART;TZID=America/New_York:20250430T120000
DTEND;TZID=America/New_York:20250430T130000
DTSTAMP:20260424T233523
CREATED:20250426T161017Z
LAST-MODIFIED:20250427T142243Z
UID:22233-1746014400-1746018000@writersroomofboston.org
SUMMARY:Writing Workshop April 30 @ 12PM
DESCRIPTION:This workshop will develop both your creativity and your craft. All genres welcome. Join us! \nWorkshop leader: WROB board member\, Evelyn Krieger. \nWe are the Writers’ Room of Boston – a workspace and a community of writers in downtown Boston. Serving the writing community since 1992.
URL:https://writersroomofboston.org/event/writing-workshop-4-30-25/
LOCATION:Writers’ Room of Boston\, 111 State Street\, Boston\, 02109\, United States
CATEGORIES:On-line
ORGANIZER;CN="Leslie Ostrow":MAILTO:info@writersroomofboston.org
END:VEVENT
BEGIN:VEVENT
DTSTART;TZID=UTC:20250429T190000
DTEND;TZID=UTC:20250429T200000
DTSTAMP:20260424T233523
CREATED:20250414T033521Z
LAST-MODIFIED:20250414T033521Z
UID:22228-1745953200-1745956800@writersroomofboston.org
SUMMARY:Readings from the Room\, April 29 @ 7 PM
DESCRIPTION:Join the Writers’ Room of Boston to welcome Anu Kandikuppa & Jake Hargrove for the next event in the series\, taking place on Tuesday\, April 29\, 2025 at 7 PM. Hosted by Spencer Storey Johnson. \nOn-line. \nRegister here.
URL:https://writersroomofboston.org/event/rftr-4-29-25/
LOCATION:Writers’ Room of Boston\, 111 State Street\, Boston\, 02109\, United States
ORGANIZER;CN="Leslie Ostrow":MAILTO:info@writersroomofboston.org
END:VEVENT
BEGIN:VEVENT
DTSTART;TZID=America/New_York:20250421T193000
DTEND;TZID=America/New_York:20250421T203000
DTSTAMP:20260424T233523
CREATED:20250512T233008Z
LAST-MODIFIED:20250510T044616Z
UID:22185-1745263800-1745267400@writersroomofboston.org
SUMMARY:Writers' Room of Boston - Board Meeting (members and fellows are welcome)
DESCRIPTION:
URL:https://writersroomofboston.org/event/writers-room-of-boston-board-meeting-members-and-fellows-are-welcome/
LOCATION:Writers’ Room of Boston\, 111 State Street\, Boston\, 02109\, United States
CATEGORIES:On-line
ORGANIZER;CN="Leslie Ostrow":MAILTO:info@writersroomofboston.org
END:VEVENT
BEGIN:VEVENT
DTSTART;TZID=UTC:20250326T173000
DTEND;TZID=UTC:20250326T203000
DTSTAMP:20260424T233523
CREATED:20250228T102546Z
LAST-MODIFIED:20250228T120313Z
UID:22066-1743010200-1743021000@writersroomofboston.org
SUMMARY:Members Only - Open House\, March 26 5:30 - 8:30
DESCRIPTION:Members only – come write with us. Writer first\, drink later. We look forward to seeing you. \nRegister here.
URL:https://writersroomofboston.org/event/members-only-open-house-march-26-530-830/
LOCATION:Writers’ Room of Boston\, 111 State Street\, Boston\, 02109\, United States
CATEGORIES:In-person / in the Room
END:VEVENT
BEGIN:VEVENT
DTSTART;TZID=UTC:20250112T160000
DTEND;TZID=UTC:20250112T180000
DTSTAMP:20260424T233523
CREATED:20250326T093043Z
LAST-MODIFIED:20250228T101055Z
UID:18412-1736697600-1736704800@writersroomofboston.org
SUMMARY:Members/Fellows Only - Community Day
DESCRIPTION:Have you ever wondered\, what would it be like to have a workspace devoted to writing; a quiet\, secure\, safe space shared with a community of other writers? Wonder no more. Welcome to the Writers’ Room of Boston\, a community and a workspace dedicated to writing in all genres. On January 12th\, from 4 – 6 pm you are welcome the public to visit our workspace and see if we provide both the space and community you are looking for. Writers of all genres and in all career stages are welcome. Register here or by scanning the QR code.
URL:https://writersroomofboston.org/event/ultimate-writing-course/
CATEGORIES:Creation
ATTACH;FMTTYPE=image/jpeg:https://writersroomofboston.org/wp-content/uploads/2022/01/WROB-Open-House-Flyer.jpg
ORGANIZER;CN="Ashton Porter":MAILTO:info@example.com
END:VEVENT
END:VCALENDAR