BEGIN:VCALENDAR
VERSION:2.0
PRODID:-//Writers&#039; Room of Boston - ECPv6.15.20//NONSGML v1.0//EN
CALSCALE:GREGORIAN
METHOD:PUBLISH
X-ORIGINAL-URL:https://writersroomofboston.org
X-WR-CALDESC:Events for Writers&#039; Room of Boston
REFRESH-INTERVAL;VALUE=DURATION:PT1H
X-Robots-Tag:noindex
X-PUBLISHED-TTL:PT1H
BEGIN:VTIMEZONE
TZID:America/New_York
BEGIN:DAYLIGHT
TZOFFSETFROM:-0500
TZOFFSETTO:-0400
TZNAME:EDT
DTSTART:20240310T070000
END:DAYLIGHT
BEGIN:STANDARD
TZOFFSETFROM:-0400
TZOFFSETTO:-0500
TZNAME:EST
DTSTART:20241103T060000
END:STANDARD
BEGIN:DAYLIGHT
TZOFFSETFROM:-0500
TZOFFSETTO:-0400
TZNAME:EDT
DTSTART:20250309T070000
END:DAYLIGHT
BEGIN:STANDARD
TZOFFSETFROM:-0400
TZOFFSETTO:-0500
TZNAME:EST
DTSTART:20251102T060000
END:STANDARD
BEGIN:DAYLIGHT
TZOFFSETFROM:-0500
TZOFFSETTO:-0400
TZNAME:EDT
DTSTART:20260308T070000
END:DAYLIGHT
BEGIN:STANDARD
TZOFFSETFROM:-0400
TZOFFSETTO:-0500
TZNAME:EST
DTSTART:20261101T060000
END:STANDARD
END:VTIMEZONE
BEGIN:VEVENT
DTSTART;TZID=America/New_York:20250430T120000
DTEND;TZID=America/New_York:20250430T130000
DTSTAMP:20260424T174639
CREATED:20250426T161017Z
LAST-MODIFIED:20250427T142243Z
UID:22233-1746014400-1746018000@writersroomofboston.org
SUMMARY:Writing Workshop April 30 @ 12PM
DESCRIPTION:This workshop will develop both your creativity and your craft. All genres welcome. Join us! \nWorkshop leader: WROB board member\, Evelyn Krieger. \nWe are the Writers’ Room of Boston – a workspace and a community of writers in downtown Boston. Serving the writing community since 1992.
URL:https://writersroomofboston.org/event/writing-workshop-4-30-25/
LOCATION:Writers’ Room of Boston\, 111 State Street\, Boston\, 02109\, United States
CATEGORIES:On-line
ORGANIZER;CN="Leslie Ostrow":MAILTO:info@writersroomofboston.org
END:VEVENT
BEGIN:VEVENT
DTSTART;TZID=America/New_York:20250421T193000
DTEND;TZID=America/New_York:20250421T203000
DTSTAMP:20260424T174639
CREATED:20250512T233008Z
LAST-MODIFIED:20250510T044616Z
UID:22185-1745263800-1745267400@writersroomofboston.org
SUMMARY:Writers' Room of Boston - Board Meeting (members and fellows are welcome)
DESCRIPTION:
URL:https://writersroomofboston.org/event/writers-room-of-boston-board-meeting-members-and-fellows-are-welcome/
LOCATION:Writers’ Room of Boston\, 111 State Street\, Boston\, 02109\, United States
CATEGORIES:On-line
ORGANIZER;CN="Leslie Ostrow":MAILTO:info@writersroomofboston.org
END:VEVENT
END:VCALENDAR