BEGIN:VCALENDAR
VERSION:2.0
PRODID:-//Writers&#039; Room of Boston - ECPv6.15.20//NONSGML v1.0//EN
CALSCALE:GREGORIAN
METHOD:PUBLISH
X-ORIGINAL-URL:https://writersroomofboston.org
X-WR-CALDESC:Events for Writers&#039; Room of Boston
REFRESH-INTERVAL;VALUE=DURATION:PT1H
X-Robots-Tag:noindex
X-PUBLISHED-TTL:PT1H
BEGIN:VTIMEZONE
TZID:America/New_York
BEGIN:DAYLIGHT
TZOFFSETFROM:-0500
TZOFFSETTO:-0400
TZNAME:EDT
DTSTART:20240310T070000
END:DAYLIGHT
BEGIN:STANDARD
TZOFFSETFROM:-0400
TZOFFSETTO:-0500
TZNAME:EST
DTSTART:20241103T060000
END:STANDARD
BEGIN:DAYLIGHT
TZOFFSETFROM:-0500
TZOFFSETTO:-0400
TZNAME:EDT
DTSTART:20250309T070000
END:DAYLIGHT
BEGIN:STANDARD
TZOFFSETFROM:-0400
TZOFFSETTO:-0500
TZNAME:EST
DTSTART:20251102T060000
END:STANDARD
BEGIN:DAYLIGHT
TZOFFSETFROM:-0500
TZOFFSETTO:-0400
TZNAME:EDT
DTSTART:20260308T070000
END:DAYLIGHT
BEGIN:STANDARD
TZOFFSETFROM:-0400
TZOFFSETTO:-0500
TZNAME:EST
DTSTART:20261101T060000
END:STANDARD
END:VTIMEZONE
BEGIN:VEVENT
DTSTART;TZID=America/New_York:20250826T190000
DTEND;TZID=America/New_York:20250826T200000
DTSTAMP:20260424T163943
CREATED:20250601T154527Z
LAST-MODIFIED:20250601T154527Z
UID:22357-1756234800-1756238400@writersroomofboston.org
SUMMARY:Summer Sundown Writing Hour August 26 @ 7PM
DESCRIPTION:Summer Sundown Writing Hour Whether you are writing fiction or nonfiction\, writing the shortest of short stories\, dialog for the screen\, poetry or a novel or memoir\, a key is to establish a routine and stick with it. Pick up a drink. Go out to the roof or the beach and come\, write with us. In the summer\, everyone is invited. And they are free\, hosted by our fellows. We are the Writers’ Room of Boston – a workspace and a community of writers in downtown Boston. Serving the writing community since 1992.
URL:https://writersroomofboston.org/event/summer-sundown-writing-hour-august-26-7pm/
LOCATION:Writers’ Room of Boston\, 111 State Street\, Boston\, 02109\, United States
CATEGORIES:On-line
ORGANIZER;CN="Leslie Ostrow":MAILTO:info@writersroomofboston.org
END:VEVENT
BEGIN:VEVENT
DTSTART;TZID=America/New_York:20250818T190000
DTEND;TZID=America/New_York:20250818T200000
DTSTAMP:20260424T163943
CREATED:20250601T154217Z
LAST-MODIFIED:20250601T154217Z
UID:22355-1755543600-1755547200@writersroomofboston.org
SUMMARY:Summer Sundown Writing Hour August 18 @ 7PM
DESCRIPTION:Summer Sundown Writing Hour Whether you are writing fiction or nonfiction\, writing the shortest of short stories\, dialog for the screen\, poetry or a novel or memoir\, a key is to establish a routine and stick with it. Pick up a drink. Go out to the roof or the beach and come\, write with us. In the summer\, everyone is invited. And they are free\, hosted by our fellows. We are the Writers’ Room of Boston – a workspace and a community of writers in downtown Boston. Serving the writing community since 1992.
URL:https://writersroomofboston.org/event/summer-sundown-writing-hour-august-18-7pm/
LOCATION:Writers’ Room of Boston\, 111 State Street\, Boston\, 02109\, United States
CATEGORIES:On-line
ORGANIZER;CN="Leslie Ostrow":MAILTO:info@writersroomofboston.org
END:VEVENT
BEGIN:VEVENT
DTSTART;TZID=America/New_York:20250814T190000
DTEND;TZID=America/New_York:20250814T200000
DTSTAMP:20260424T163943
CREATED:20250601T153923Z
LAST-MODIFIED:20250601T153923Z
UID:22353-1755198000-1755201600@writersroomofboston.org
SUMMARY:Summer Sundown Writing Hour August 14 @ 7PM
DESCRIPTION:Summer Sundown Writing Hour Whether you are writing fiction or nonfiction\, writing the shortest of short stories\, dialog for the screen\, poetry or a novel or memoir\, a key is to establish a routine and stick with it. Pick up a drink. Go out to the roof or the beach and come\, write with us. In the summer\, everyone is invited. And they are free\, hosted by our fellows. We are the Writers’ Room of Boston – a workspace and a community of writers in downtown Boston. Serving the writing community since 1992.
URL:https://writersroomofboston.org/event/summer-sundown-writing-hour-august-14-7pm/
LOCATION:Writers’ Room of Boston\, 111 State Street\, Boston\, 02109\, United States
CATEGORIES:On-line
ORGANIZER;CN="Leslie Ostrow":MAILTO:info@writersroomofboston.org
END:VEVENT
BEGIN:VEVENT
DTSTART;TZID=America/New_York:20250806T190000
DTEND;TZID=America/New_York:20250806T200000
DTSTAMP:20260424T163943
CREATED:20250601T104627Z
LAST-MODIFIED:20250601T104627Z
UID:22350-1754506800-1754510400@writersroomofboston.org
SUMMARY:Summer Sundown Writing Hour August 6 @ 7PM
DESCRIPTION:Summer Sundown Writing Hour Whether you are writing fiction or nonfiction\, writing the shortest of short stories\, dialog for the screen\, poetry or a novel or memoir\, a key is to establish a routine and stick with it. Pick up a drink. Go out to the roof or the beach and come\, write with us. In the summer\, everyone is invited. And they are free\, hosted by our fellows. We are the Writers’ Room of Boston – a workspace and a community of writers in downtown Boston. Serving the writing community since 1992.
URL:https://writersroomofboston.org/event/summer-sundown-writing-hour-august-6-7pm/
LOCATION:Writers’ Room of Boston\, 111 State Street\, Boston\, 02109\, United States
CATEGORIES:On-line
ORGANIZER;CN="Leslie Ostrow":MAILTO:info@writersroomofboston.org
END:VEVENT
BEGIN:VEVENT
DTSTART;TZID=America/New_York:20250729T190000
DTEND;TZID=America/New_York:20250729T200000
DTSTAMP:20260424T163943
CREATED:20250601T104131Z
LAST-MODIFIED:20250601T104131Z
UID:22348-1753815600-1753819200@writersroomofboston.org
SUMMARY:Summer Sundown Writing Hour July 29 @ 7PM
DESCRIPTION:Summer Sundown Writing Hour Whether you are writing fiction or nonfiction\, writing the shortest of short stories\, dialog for the screen\, poetry or a novel or memoir\, a key is to establish a routine and stick with it. Pick up a drink. Go out to the roof or the beach and come\, write with us. In the summer\, everyone is invited. And they are free\, hosted by our fellows. We are the Writers’ Room of Boston – a workspace and a community of writers in downtown Boston. Serving the writing community since 1992.
URL:https://writersroomofboston.org/event/summer-sundown-writing-hour-july-29-7pm/
LOCATION:Writers’ Room of Boston\, 111 State Street\, Boston\, 02109\, United States
CATEGORIES:On-line
ORGANIZER;CN="Leslie Ostrow":MAILTO:info@writersroomofboston.org
END:VEVENT
BEGIN:VEVENT
DTSTART;TZID=America/New_York:20250717T190000
DTEND;TZID=America/New_York:20250717T200000
DTSTAMP:20260424T163943
CREATED:20250601T103650Z
LAST-MODIFIED:20250601T103650Z
UID:22346-1752778800-1752782400@writersroomofboston.org
SUMMARY:Summer Sundown Writing Hour July 17 @ 7PM
DESCRIPTION:Summer Sundown Writing Hour Whether you are writing fiction or nonfiction\, writing the shortest of short stories\, dialog for the screen\, poetry or a novel or memoir\, a key is to establish a routine and stick with it. Pick up a drink. Go out to the roof or the beach and come\, write with us. In the summer\, everyone is invited. And they are free\, hosted by our fellows. We are the Writers’ Room of Boston – a workspace and a community of writers in downtown Boston. Serving the writing community since 1992.
URL:https://writersroomofboston.org/event/summer-sundown-writing-hour-july-17-7pm/
LOCATION:Writers’ Room of Boston\, 111 State Street\, Boston\, 02109\, United States
CATEGORIES:On-line
ORGANIZER;CN="Leslie Ostrow":MAILTO:info@writersroomofboston.org
END:VEVENT
BEGIN:VEVENT
DTSTART;TZID=America/New_York:20250709T190000
DTEND;TZID=America/New_York:20250709T200000
DTSTAMP:20260424T163943
CREATED:20250601T103237Z
LAST-MODIFIED:20250601T103348Z
UID:22343-1752087600-1752091200@writersroomofboston.org
SUMMARY:Summer Sundown Writing Hour July 9 @ 7PM
DESCRIPTION:Summer Sundown Writing Hour Whether you are writing fiction or nonfiction\, writing the shortest of short stories\, dialog for the screen\, poetry or a novel or memoir\, a key is to establish a routine and stick with it. Pick up a drink. Go out to the roof or the beach and come\, write with us. In the summer\, everyone is invited. And they are free\, hosted by our fellows. We are the Writers’ Room of Boston – a workspace and a community of writers in downtown Boston. Serving the writing community since 1992.
URL:https://writersroomofboston.org/event/summer-sundown-writing-hour-july-9-7pm/
LOCATION:Writers’ Room of Boston\, 111 State Street\, Boston\, 02109\, United States
CATEGORIES:On-line
ORGANIZER;CN="Leslie Ostrow":MAILTO:info@writersroomofboston.org
END:VEVENT
BEGIN:VEVENT
DTSTART;TZID=America/New_York:20250701T190000
DTEND;TZID=America/New_York:20250701T200000
DTSTAMP:20260424T163943
CREATED:20250601T102412Z
LAST-MODIFIED:20250601T102808Z
UID:22341-1751396400-1751400000@writersroomofboston.org
SUMMARY:Summer Sundown Writing Hour July 1 @ 7PM
DESCRIPTION:Summer Sundown Writing Hour   Whether you are writing fiction or nonfiction\, writing the shortest of short stories\, dialog for the screen\, poetry or a novel or memoir\, a key is to establish a routine and stick with it. Pick up a drink. Go out to the roof or the beach and come\, write with us. In the summer\, everyone is invited. And they are free\, hosted by our fellows. We are the Writers’ Room of Boston – a workspace and a community of writers in downtown Boston. Serving the writing community since 1992.
URL:https://writersroomofboston.org/event/summer-sundown-writing-hour-july-1-7pm/
LOCATION:Writers’ Room of Boston\, 111 State Street\, Boston\, 02109\, United States
CATEGORIES:On-line
ORGANIZER;CN="Leslie Ostrow":MAILTO:info@writersroomofboston.org
END:VEVENT
BEGIN:VEVENT
DTSTART;TZID=America/New_York:20250626T190000
DTEND;TZID=America/New_York:20250626T200000
DTSTAMP:20260424T163943
CREATED:20250525T103316Z
LAST-MODIFIED:20250525T103512Z
UID:22320-1750964400-1750968000@writersroomofboston.org
SUMMARY:Summer Sundown Writing Hour June 26 @ 7PM
DESCRIPTION:Summer Sundown Writing Hour\n  \nWhether you are writing fiction or nonfiction\, writing the shortest of short stories\, dialog for the screen\, poetry or a novel or memoir\, a key is to establish a routine and stick with it. Pick up a drink. Go out to the roof or the beach and come\, write with us.\nIn the summer\, everyone is invited. And they are free\, hosted by our fellows.\nWe are the Writers’ Room of Boston – a workspace and a community of writers in downtown Boston. Serving the writing community since 1992.
URL:https://writersroomofboston.org/event/sswh-6-26-25/
LOCATION:Writers’ Room of Boston\, 111 State Street\, Boston\, 02109\, United States
CATEGORIES:On-line
ORGANIZER;CN="Leslie Ostrow":MAILTO:info@writersroomofboston.org
END:VEVENT
BEGIN:VEVENT
DTSTART;TZID=America/New_York:20250625T120000
DTEND;TZID=America/New_York:20250625T130000
DTSTAMP:20260424T163943
CREATED:20250426T162417Z
LAST-MODIFIED:20250427T142155Z
UID:22236-1750852800-1750856400@writersroomofboston.org
SUMMARY:Writing Workshop June 25 @ 12PM
DESCRIPTION:Writing Workshop\nThis workshop will develop both your creativity and your craft. All genres welcome. Join us!\nWorkshop leader: WROB board member\, Evelyn Krieger.\nWe are the Writers’ Room of Boston – a workspace and a community of writers in downtown Boston. Serving the writing community since 1992.
URL:https://writersroomofboston.org/event/writing-workshop-6-25-25-12pm/
LOCATION:Writers’ Room of Boston\, 111 State Street\, Boston\, 02109\, United States
CATEGORIES:On-line
ORGANIZER;CN="Leslie Ostrow":MAILTO:info@writersroomofboston.org
END:VEVENT
BEGIN:VEVENT
DTSTART;TZID=America/New_York:20250618T193000
DTEND;TZID=America/New_York:20250618T203000
DTSTAMP:20260424T163943
CREATED:20250526T005703Z
LAST-MODIFIED:20250526T005703Z
UID:22327-1750275000-1750278600@writersroomofboston.org
SUMMARY:Writers' Room After Hours June 18 @7:30
DESCRIPTION:The Writers’ Room After Hours – everything you want to know about the writing life\, but were afraid to ask. \nIn the June 18th edition\, Margery Gans will interview Mable Chan. \nMable Chan is a journalist\, writer\, producer\, and founder of One in a Billion Productions\, a film-focused multi-media nonprofit. Her current writing projects include a memoir and a TV pilot. She is also passionate about practising yoga\, playing the piano\, and mentoring the next generation. \nMable Chan
URL:https://writersroomofboston.org/event/writers-room-after-hours-june-18-730/
LOCATION:Writers’ Room of Boston\, 111 State Street\, Boston\, 02109\, United States
CATEGORIES:On-line
ORGANIZER;CN="Leslie Ostrow":MAILTO:info@writersroomofboston.org
END:VEVENT
BEGIN:VEVENT
DTSTART;TZID=America/New_York:20250512T193000
DTEND;TZID=America/New_York:20250512T203000
DTSTAMP:20260424T163943
CREATED:20250510T045010Z
LAST-MODIFIED:20250510T045025Z
UID:22274-1747078200-1747081800@writersroomofboston.org
SUMMARY:Writers' Room of Boston - Board meeting
DESCRIPTION:The Writers’ Room of Boston\, May board meeting. All members and fellows are invited. See the Program Director for more information and the Zoom URL.
URL:https://writersroomofboston.org/event/writers-room-of-boston-board-meeting-may25/
LOCATION:Writers’ Room of Boston\, 111 State Street\, Boston\, 02109\, United States
CATEGORIES:On-line
ORGANIZER;CN="Leslie Ostrow":MAILTO:info@writersroomofboston.org
END:VEVENT
BEGIN:VEVENT
DTSTART;TZID=America/New_York:20250430T120000
DTEND;TZID=America/New_York:20250430T130000
DTSTAMP:20260424T163943
CREATED:20250426T161017Z
LAST-MODIFIED:20250427T142243Z
UID:22233-1746014400-1746018000@writersroomofboston.org
SUMMARY:Writing Workshop April 30 @ 12PM
DESCRIPTION:This workshop will develop both your creativity and your craft. All genres welcome. Join us! \nWorkshop leader: WROB board member\, Evelyn Krieger. \nWe are the Writers’ Room of Boston – a workspace and a community of writers in downtown Boston. Serving the writing community since 1992.
URL:https://writersroomofboston.org/event/writing-workshop-4-30-25/
LOCATION:Writers’ Room of Boston\, 111 State Street\, Boston\, 02109\, United States
CATEGORIES:On-line
ORGANIZER;CN="Leslie Ostrow":MAILTO:info@writersroomofboston.org
END:VEVENT
BEGIN:VEVENT
DTSTART;TZID=America/New_York:20250421T193000
DTEND;TZID=America/New_York:20250421T203000
DTSTAMP:20260424T163943
CREATED:20250512T233008Z
LAST-MODIFIED:20250510T044616Z
UID:22185-1745263800-1745267400@writersroomofboston.org
SUMMARY:Writers' Room of Boston - Board Meeting (members and fellows are welcome)
DESCRIPTION:
URL:https://writersroomofboston.org/event/writers-room-of-boston-board-meeting-members-and-fellows-are-welcome/
LOCATION:Writers’ Room of Boston\, 111 State Street\, Boston\, 02109\, United States
CATEGORIES:On-line
ORGANIZER;CN="Leslie Ostrow":MAILTO:info@writersroomofboston.org
END:VEVENT
END:VCALENDAR