BEGIN:VCALENDAR
VERSION:2.0
PRODID:-//Writers&#039; Room of Boston - ECPv6.15.20//NONSGML v1.0//EN
CALSCALE:GREGORIAN
METHOD:PUBLISH
X-WR-CALNAME:Writers&#039; Room of Boston
X-ORIGINAL-URL:https://writersroomofboston.org
X-WR-CALDESC:Events for Writers&#039; Room of Boston
REFRESH-INTERVAL;VALUE=DURATION:PT1H
X-Robots-Tag:noindex
X-PUBLISHED-TTL:PT1H
BEGIN:VTIMEZONE
TZID:America/New_York
BEGIN:DAYLIGHT
TZOFFSETFROM:-0500
TZOFFSETTO:-0400
TZNAME:EDT
DTSTART:20250309T070000
END:DAYLIGHT
BEGIN:STANDARD
TZOFFSETFROM:-0400
TZOFFSETTO:-0500
TZNAME:EST
DTSTART:20251102T060000
END:STANDARD
BEGIN:DAYLIGHT
TZOFFSETFROM:-0500
TZOFFSETTO:-0400
TZNAME:EDT
DTSTART:20260308T070000
END:DAYLIGHT
BEGIN:STANDARD
TZOFFSETFROM:-0400
TZOFFSETTO:-0500
TZNAME:EST
DTSTART:20261101T060000
END:STANDARD
BEGIN:DAYLIGHT
TZOFFSETFROM:-0500
TZOFFSETTO:-0400
TZNAME:EDT
DTSTART:20270314T070000
END:DAYLIGHT
BEGIN:STANDARD
TZOFFSETFROM:-0400
TZOFFSETTO:-0500
TZNAME:EST
DTSTART:20271107T060000
END:STANDARD
END:VTIMEZONE
BEGIN:VEVENT
DTSTART;TZID=America/New_York:20260208T190000
DTEND;TZID=America/New_York:20260208T203000
DTSTAMP:20260424T175222
CREATED:20260108T235012Z
LAST-MODIFIED:20260108T235012Z
UID:22701-1770577200-1770582600@writersroomofboston.org
SUMMARY:Fiction Feedback Group
DESCRIPTION:You’ve probably joined a critique group where others took turns dissecting your writing\, pointing out things that did and didn’t work\, and where you\, the writer\, took notes and said nothing. This is different. The emphasis will be on literary fiction as defined very broadly. This includes writing that blurs the boundary between genre fiction and ‘pure’ literary fiction\, between realism and surrealism and speculative fiction. \nThe group will meet remotely (on Zoom) for 90 minutes monthly. There will also be opportunities to meet in-person at the Writers’ Room. \nThe Fiction Feedback Group is organized and led by Paul Farwell whose short stories have appeared in Chicago Quarterly Review\, The Antioch Review\, Salt Hill Journal\, Willow Springs\, and Catamaran Literary Reader. He also serves as a reader for Chicago Quarterly Review. He currently lives in Watertown with his wife and their dog\, Edgar Allan Pug. \nThe group will be limited to 10 people. Writing submissions can be a short story\, a novel excerpt or a fragment of either\, as long as they are less than 5000 words. We will use an online tool (Google Docs or an equivalent) to share our work and supply line edits (if requested).
URL:https://writersroomofboston.org/event/fiction-feedback-group-8/
CATEGORIES:On-line
END:VEVENT
END:VCALENDAR