BEGIN:VCALENDAR
VERSION:2.0
PRODID:-//Writers&#039; Room of Boston - ECPv6.15.20//NONSGML v1.0//EN
CALSCALE:GREGORIAN
METHOD:PUBLISH
X-WR-CALNAME:Writers&#039; Room of Boston
X-ORIGINAL-URL:https://writersroomofboston.org
X-WR-CALDESC:Events for Writers&#039; Room of Boston
REFRESH-INTERVAL;VALUE=DURATION:PT1H
X-Robots-Tag:noindex
X-PUBLISHED-TTL:PT1H
BEGIN:VTIMEZONE
TZID:America/New_York
BEGIN:DAYLIGHT
TZOFFSETFROM:-0500
TZOFFSETTO:-0400
TZNAME:EDT
DTSTART:20240310T070000
END:DAYLIGHT
BEGIN:STANDARD
TZOFFSETFROM:-0400
TZOFFSETTO:-0500
TZNAME:EST
DTSTART:20241103T060000
END:STANDARD
BEGIN:DAYLIGHT
TZOFFSETFROM:-0500
TZOFFSETTO:-0400
TZNAME:EDT
DTSTART:20250309T070000
END:DAYLIGHT
BEGIN:STANDARD
TZOFFSETFROM:-0400
TZOFFSETTO:-0500
TZNAME:EST
DTSTART:20251102T060000
END:STANDARD
BEGIN:DAYLIGHT
TZOFFSETFROM:-0500
TZOFFSETTO:-0400
TZNAME:EDT
DTSTART:20260308T070000
END:DAYLIGHT
BEGIN:STANDARD
TZOFFSETFROM:-0400
TZOFFSETTO:-0500
TZNAME:EST
DTSTART:20261101T060000
END:STANDARD
END:VTIMEZONE
BEGIN:VEVENT
DTSTART;TZID=America/New_York:20250909T193000
DTEND;TZID=America/New_York:20250909T200000
DTSTAMP:20260424T231943
CREATED:20250829T190705Z
LAST-MODIFIED:20250829T190705Z
UID:22488-1757446200-1757448000@writersroomofboston.org
SUMMARY:Board Meeting - September 9\, 2025
DESCRIPTION:Meeting of the Writers’ Room Board. All meetings are open to members and by invitation to the public.\nThose wishing to attend should contact the Program Director\, Leslie Ostrow at info@writersroomofboston.org
URL:https://writersroomofboston.org/event/board-meeting-september-9-2025/
CATEGORIES:On-line
ORGANIZER;CN="Leslie Ostrow":MAILTO:info@writersroomofboston.org
END:VEVENT
BEGIN:VEVENT
DTSTART;TZID=America/New_York:20250916T120000
DTEND;TZID=America/New_York:20250916T130000
DTSTAMP:20260424T231943
CREATED:20250829T185357Z
LAST-MODIFIED:20250829T185357Z
UID:22482-1758024000-1758027600@writersroomofboston.org
SUMMARY:Writing Workshop - September 16\, 2025 @ Noon
DESCRIPTION:This workshop will develop both your creativity and your craft. All genres welcome. Join us online!\nWorkshop leader: WROB board member\, Evelyn Krieger.\nWe are the Writers’ Room of Boston – a workspace and a community of writers in downtown Boston. Serving the writing community since 1992.
URL:https://writersroomofboston.org/event/writing-workshop-september-16-2025-noon/
CATEGORIES:On-line
ORGANIZER;CN="Leslie Ostrow":MAILTO:info@writersroomofboston.org
END:VEVENT
END:VCALENDAR