BEGIN:VCALENDAR
VERSION:2.0
PRODID:-//Writers&#039; Room of Boston - ECPv6.15.20//NONSGML v1.0//EN
CALSCALE:GREGORIAN
METHOD:PUBLISH
X-ORIGINAL-URL:https://writersroomofboston.org
X-WR-CALDESC:Events for Writers&#039; Room of Boston
REFRESH-INTERVAL;VALUE=DURATION:PT1H
X-Robots-Tag:noindex
X-PUBLISHED-TTL:PT1H
BEGIN:VTIMEZONE
TZID:America/New_York
BEGIN:DAYLIGHT
TZOFFSETFROM:-0500
TZOFFSETTO:-0400
TZNAME:EDT
DTSTART:20250309T070000
END:DAYLIGHT
BEGIN:STANDARD
TZOFFSETFROM:-0400
TZOFFSETTO:-0500
TZNAME:EST
DTSTART:20251102T060000
END:STANDARD
BEGIN:DAYLIGHT
TZOFFSETFROM:-0500
TZOFFSETTO:-0400
TZNAME:EDT
DTSTART:20260308T070000
END:DAYLIGHT
BEGIN:STANDARD
TZOFFSETFROM:-0400
TZOFFSETTO:-0500
TZNAME:EST
DTSTART:20261101T060000
END:STANDARD
BEGIN:DAYLIGHT
TZOFFSETFROM:-0500
TZOFFSETTO:-0400
TZNAME:EDT
DTSTART:20270314T070000
END:DAYLIGHT
BEGIN:STANDARD
TZOFFSETFROM:-0400
TZOFFSETTO:-0500
TZNAME:EST
DTSTART:20271107T060000
END:STANDARD
END:VTIMEZONE
BEGIN:VEVENT
DTSTART;VALUE=DATE:20260117
DTEND;VALUE=DATE:20260118
DTSTAMP:20260424T204131
CREATED:20251030T094109Z
LAST-MODIFIED:20251030T094203Z
UID:22566-1768608000-1768694399@writersroomofboston.org
SUMMARY:TBR Writing & Publishing Conference
DESCRIPTION:✨ Something big is coming to Cambridge this winter! On January 17\, 2026\, the inaugural TBR Writing & Publishing Conference will light up Lesley University’s campus with more than 75 award-winning authors\, editors\, and publishing pros ready to inspire and connect. Featured speakers include Celeste Ng\, Ilyon Woo\, Ken Liu\, Marjan Kamali\, Caleb Gayle\, and many more. With over 35 sessions spanning craft\, publishing\, and the book ecosystem\, there’s something for every writer—whether you’re finishing your first manuscript or deep into your career. Tickets are $389 and selling fast. Cap off your day at the delightfully quirky closing bash\, “One For the Books” a lively closing celebration at La Fabrica in Central Square\, featuring inventive literary programming\, music\, and opportunities to mingle and maybe even dance. Learn more and register at TBR.boston.
URL:https://writersroomofboston.org/event/tbr-writers-conference/
LOCATION:Lesley University\, 29 Everett Street\, Cambridge\, MA\, 02138\, United States
CATEGORIES:In-person / off-site
END:VEVENT
END:VCALENDAR