BEGIN:VCALENDAR
VERSION:2.0
PRODID:-//Writers&#039; Room of Boston - ECPv6.15.20//NONSGML v1.0//EN
CALSCALE:GREGORIAN
METHOD:PUBLISH
X-WR-CALNAME:Writers&#039; Room of Boston
X-ORIGINAL-URL:https://writersroomofboston.org
X-WR-CALDESC:Events for Writers&#039; Room of Boston
REFRESH-INTERVAL;VALUE=DURATION:PT1H
X-Robots-Tag:noindex
X-PUBLISHED-TTL:PT1H
BEGIN:VTIMEZONE
TZID:America/New_York
BEGIN:DAYLIGHT
TZOFFSETFROM:-0500
TZOFFSETTO:-0400
TZNAME:EDT
DTSTART:20250309T070000
END:DAYLIGHT
BEGIN:STANDARD
TZOFFSETFROM:-0400
TZOFFSETTO:-0500
TZNAME:EST
DTSTART:20251102T060000
END:STANDARD
BEGIN:DAYLIGHT
TZOFFSETFROM:-0500
TZOFFSETTO:-0400
TZNAME:EDT
DTSTART:20260308T070000
END:DAYLIGHT
BEGIN:STANDARD
TZOFFSETFROM:-0400
TZOFFSETTO:-0500
TZNAME:EST
DTSTART:20261101T060000
END:STANDARD
BEGIN:DAYLIGHT
TZOFFSETFROM:-0500
TZOFFSETTO:-0400
TZNAME:EDT
DTSTART:20270314T070000
END:DAYLIGHT
BEGIN:STANDARD
TZOFFSETFROM:-0400
TZOFFSETTO:-0500
TZNAME:EST
DTSTART:20271107T060000
END:STANDARD
END:VTIMEZONE
BEGIN:VEVENT
DTSTART;TZID=America/New_York:20260213T183000
DTEND;TZID=America/New_York:20260213T200000
DTSTAMP:20260425T092754
CREATED:20260125T103651Z
LAST-MODIFIED:20260125T103651Z
UID:22721-1771007400-1771012800@writersroomofboston.org
SUMMARY:Ploughshares Master Class 2/13
DESCRIPTION:The Ploughshares Master Class Series at the Writer’s Room of Boston is a five-week evening series for emerging and established writers alike. Each generative workshop riffs off an archival Ploughshares literary piece\, inviting participants to engage directly with the journal’s rich history while creating new work of their own. \nLed by editors\, poets\, designers\, and marketers from the Ploughshares community\, sessions combine close reading\, guided prompts\, discussion\, and optional sharing in a supportive space. Writers across genres will leave with fresh drafts and practical craft tools. Excellent work generated by attendees in these sessions will be considered for publication on the Ploughshares blog. \nUsing Ploughshares’ nonfiction-only Fall 2012 issue as inspiration\, Ploughshares reader Ciera Miller leads a generative workshop\nexploring personal\, visual\, and fragmented nonfiction forms. Participants will experiment with nontraditional structures and leave\nwith fresh approaches to writing nonfiction. \n$12\, $5 for low income/students. Free for members/fellows of the Room.
URL:https://writersroomofboston.org/event/ploughshares-master-class-2-13/
LOCATION:Writers’ Room of Boston\, 111 State Street\, Boston\, 02109\, United States
CATEGORIES:In-person / in the Room
ORGANIZER;CN="Leslie Ostrow":MAILTO:info@writersroomofboston.org
END:VEVENT
BEGIN:VEVENT
DTSTART;TZID=America/New_York:20260220T183000
DTEND;TZID=America/New_York:20260220T200000
DTSTAMP:20260425T092754
CREATED:20260125T104116Z
LAST-MODIFIED:20260125T104116Z
UID:22723-1771612200-1771617600@writersroomofboston.org
SUMMARY:Ploughshares Master Class 2/20
DESCRIPTION:The Ploughshares Master Class Series at the Writer’s Room of Boston is a five-week evening series for emerging and established writers alike. Each generative workshop riffs off an archival Ploughshares literary piece\, inviting participants to engage directly with the journal’s rich history while creating new work of their own. \nLed by editors\, poets\, designers\, and marketers from the Ploughshares community\, sessions combine close reading\, guided prompts\, discussion\, and optional sharing in a supportive space. Writers across genres will leave with fresh drafts and practical craft tools. Excellent work generated by attendees in these sessions will be considered for publication on the Ploughshares blog. \nMatt Albren\, Ploughshares Editorial Associate of Readers\, leads a workshop on Voice\, guiding writers to bring the self onto the page through memoir\, autofiction\, or poetry. Participants will explore personal experiences as creative material and leave with practical strategies for using the self across genres. \n$12\, $5 for low income/students. Free for members/fellows of the Room.
URL:https://writersroomofboston.org/event/ploughshares-master-class-2-20/
LOCATION:Writers’ Room of Boston\, 111 State Street\, Boston\, 02109\, United States
CATEGORIES:In-person / in the Room
ORGANIZER;CN="Leslie Ostrow":MAILTO:info@writersroomofboston.org
END:VEVENT
BEGIN:VEVENT
DTSTART;TZID=America/New_York:20260313T183000
DTEND;TZID=America/New_York:20260313T200000
DTSTAMP:20260425T092754
CREATED:20260125T104814Z
LAST-MODIFIED:20260125T104814Z
UID:22727-1773426600-1773432000@writersroomofboston.org
SUMMARY:Ploughshares Master Class 3/13
DESCRIPTION:The Ploughshares Master Class Series at the Writer’s Room of Boston is a five-week evening series for emerging and established writers alike. Each generative workshop riffs off an archival Ploughshares literary piece\, inviting participants to engage directly with the journal’s rich history while creating new work of their own. \nLed by editors\, poets\, designers\, and marketers from the Ploughshares community\, sessions combine close reading\, guided prompts\, discussion\, and optional sharing in a supportive space. Writers across genres will leave with fresh drafts and practical craft tools. Excellent work generated by attendees in these sessions will be considered for publication on the Ploughshares blog. \nUsing Ploughshares’ social media and newsletters as case studies\, Ploughshares former Marketing Associate Ciera Miller leads a\npractical workshop on marketing and branding for writers. Participants will learn to build an online presence\, write effective\ncopy\, and create a personalized promotional plan. \n$12\, $5 for low income/students. Free for members/fellows of the Room.
URL:https://writersroomofboston.org/event/ploughshares-master-class-3-13/
LOCATION:Writers’ Room of Boston\, 111 State Street\, Boston\, 02109\, United States
CATEGORIES:In-person / in the Room
ORGANIZER;CN="Leslie Ostrow":MAILTO:info@writersroomofboston.org
END:VEVENT
BEGIN:VEVENT
DTSTART;TZID=America/New_York:20260314T100000
DTEND;TZID=America/New_York:20260314T140000
DTSTAMP:20260425T092754
CREATED:20260120T011403Z
LAST-MODIFIED:20260120T011403Z
UID:22716-1773482400-1773496800@writersroomofboston.org
SUMMARY:Community Day March 14\, 2026
DESCRIPTION:Our popular Community Days are back! Join us on Saturday\, March 14\, for a day of writing and camaraderie—with an emphasis on writing. Get inspired by working in a packed room. We’ll end our time together with an opportunity to listen to readings by any participant who wishes to read\, followed by an optional lunch. \nMake sure to sign up early—to ensure everyone has a desk\, we must limit this event to 11 registrants. \nThis event is free and open only to members and fellows. (Lunch $10; Venmo to Leslie) \nSaturday\, March 14 @ 10 a.m. – 2 p.m.\, in-person in the workspace.
URL:https://writersroomofboston.org/event/community-day-march-14-2026/
CATEGORIES:In-person / in the Room
ORGANIZER;CN="Leslie Ostrow":MAILTO:info@writersroomofboston.org
END:VEVENT
BEGIN:VEVENT
DTSTART;TZID=America/New_York:20260320T183000
DTEND;TZID=America/New_York:20260320T200000
DTSTAMP:20260425T092754
CREATED:20260125T105237Z
LAST-MODIFIED:20260125T105237Z
UID:22729-1774031400-1774036800@writersroomofboston.org
SUMMARY:Ploughshares Master Class 3/20
DESCRIPTION:The Ploughshares Master Class Series at the Writer’s Room of Boston is a five-week evening series for emerging and established writers alike. Each generative workshop riffs off an archival Ploughshares literary piece\, inviting participants to engage directly with the journal’s rich history while creating new work of their own. \nLed by editors\, poets\, designers\, and marketers from the Ploughshares community\, sessions combine close reading\, guided prompts\, discussion\, and optional sharing in a supportive space. Writers across genres will leave with fresh drafts and practical craft tools. Excellent work generated by attendees in these sessions will be considered for publication on the Ploughshares blog. \nUsing examples from the Ploughshares archive\, Editorial Associate Hayley Pisciotti leads a generative workshop on sensory writing. Through guided prompts and discussion\, participants will explore how the five senses shape tone\, mood\, and meaning\, leaving with a new draft and fresh perspective on sensory detail. \n$12\, $5 for low income/students. Free for members/fellows of the Room.
URL:https://writersroomofboston.org/event/ploughshares-master-class-3-20/
LOCATION:Writers’ Room of Boston\, 111 State Street\, Boston\, 02109\, United States
CATEGORIES:In-person / in the Room
ORGANIZER;CN="Leslie Ostrow":MAILTO:info@writersroomofboston.org
END:VEVENT
BEGIN:VEVENT
DTSTART;TZID=America/New_York:20260423T180000
DTEND;TZID=America/New_York:20260423T194500
DTSTAMP:20260425T092754
CREATED:20260423T183529Z
LAST-MODIFIED:20260423T183529Z
UID:22829-1776967200-1776973500@writersroomofboston.org
SUMMARY:Write In April 23\, 2026 @ 6:00
DESCRIPTION:The Write In is back! Join us for timed exercises\, positive feedback\, and chat about craft.\nToday: Beginnings. All genres welcome. Open to the public. $12. $5 for students. Free for members/fellows of WROB.
URL:https://writersroomofboston.org/event/write-in-april-23-2026-600/
LOCATION:Writers’ Room of Boston\, 111 State Street\, Boston\, 02109\, United States
CATEGORIES:In-person / in the Room
ORGANIZER;CN="Leslie Ostrow":MAILTO:info@writersroomofboston.org
END:VEVENT
BEGIN:VEVENT
DTSTART;TZID=America/New_York:20260425T100000
DTEND;TZID=America/New_York:20260425T140000
DTSTAMP:20260425T092754
CREATED:20260329T114001Z
LAST-MODIFIED:20260329T114001Z
UID:22817-1777111200-1777125600@writersroomofboston.org
SUMMARY:Community Day April 25\, 2026 10AM - 2PM
DESCRIPTION:Members and fellows only. \nOur popular Community Days are back! Join us on Saturday\, April 25\, for a day of writing and camaraderie—with an emphasis on writing. Get inspired by working in a packed room. We’ll end our time together with an opportunity to listen to readings by any participant who wishes to read\, followed by an optional lunch. \nMake sure to sign up early—to ensure everyone has a desk\, we must limit this event to 11 registrants. \nThis event is free and open only to members and fellows. (Lunch $10; Venmo to Leslie) \nSaturday\, April 25 @ 10 a.m. – 2 p.m.\, in-person in the workspace.
URL:https://writersroomofboston.org/event/community-day-april-25-2026-10am-2pm/
CATEGORIES:In-person / in the Room
END:VEVENT
BEGIN:VEVENT
DTSTART;TZID=America/New_York:20260606T100000
DTEND;TZID=America/New_York:20260606T140000
DTSTAMP:20260425T092754
CREATED:20260329T114303Z
LAST-MODIFIED:20260329T114303Z
UID:22819-1780740000-1780754400@writersroomofboston.org
SUMMARY:Community Day June 6\, 2026 10AM - 2PM
DESCRIPTION:Members and fellows only. \nOur popular Community Days are back! Join us on Saturday\, June 6\, for a day of writing and camaraderie—with an emphasis on writing. Get inspired by working in a packed room. We’ll end our time together with an opportunity to listen to readings by any participant who wishes to read\, followed by an optional lunch. \nMake sure to sign up early—to ensure everyone has a desk\, we must limit this event to 11 registrants. \nThis event is free and open only to members and fellows. (Lunch $10; Venmo to Leslie) \nSaturday\, June 6 @ 10 a.m. – 2 p.m.\, in-person in the workspace.
URL:https://writersroomofboston.org/event/community-day-june-6-2026-10am-2pm/
CATEGORIES:In-person / in the Room
END:VEVENT
BEGIN:VEVENT
DTSTART;TZID=America/New_York:20260718T100000
DTEND;TZID=America/New_York:20260718T140000
DTSTAMP:20260425T092754
CREATED:20260329T114700Z
LAST-MODIFIED:20260329T114700Z
UID:22821-1784368800-1784383200@writersroomofboston.org
SUMMARY:Community Day July 18\, 2026 10AM - 2PM
DESCRIPTION:Members and fellows only. This is the last Community Day before the August recess. \nOur popular Community Days are back! Join us on Saturday\, July 18\, for a day of writing and camaraderie—with an emphasis on writing. Get inspired by working in a packed room. We’ll end our time together with an opportunity to listen to readings by any participant who wishes to read\, followed by an optional lunch. \nMake sure to sign up early—to ensure everyone has a desk\, we must limit this event to 11 registrants. \nThis event is free and open only to members and fellows. (Lunch $10; Venmo to Leslie) \nSaturday\, July 18 @ 10 a.m. – 2 p.m.\, in-person in the workspace.
URL:https://writersroomofboston.org/event/community-day-july-18-2026-10am-2pm/
CATEGORIES:In-person / in the Room
END:VEVENT
END:VCALENDAR