BEGIN:VCALENDAR
VERSION:2.0
PRODID:-//Writers&#039; Room of Boston - ECPv6.15.20//NONSGML v1.0//EN
CALSCALE:GREGORIAN
METHOD:PUBLISH
X-WR-CALNAME:Writers&#039; Room of Boston
X-ORIGINAL-URL:https://writersroomofboston.org
X-WR-CALDESC:Events for Writers&#039; Room of Boston
REFRESH-INTERVAL;VALUE=DURATION:PT1H
X-Robots-Tag:noindex
X-PUBLISHED-TTL:PT1H
BEGIN:VTIMEZONE
TZID:America/New_York
BEGIN:DAYLIGHT
TZOFFSETFROM:-0500
TZOFFSETTO:-0400
TZNAME:EDT
DTSTART:20250309T070000
END:DAYLIGHT
BEGIN:STANDARD
TZOFFSETFROM:-0400
TZOFFSETTO:-0500
TZNAME:EST
DTSTART:20251102T060000
END:STANDARD
BEGIN:DAYLIGHT
TZOFFSETFROM:-0500
TZOFFSETTO:-0400
TZNAME:EDT
DTSTART:20260308T070000
END:DAYLIGHT
BEGIN:STANDARD
TZOFFSETFROM:-0400
TZOFFSETTO:-0500
TZNAME:EST
DTSTART:20261101T060000
END:STANDARD
BEGIN:DAYLIGHT
TZOFFSETFROM:-0500
TZOFFSETTO:-0400
TZNAME:EDT
DTSTART:20270314T070000
END:DAYLIGHT
BEGIN:STANDARD
TZOFFSETFROM:-0400
TZOFFSETTO:-0500
TZNAME:EST
DTSTART:20271107T060000
END:STANDARD
END:VTIMEZONE
BEGIN:VEVENT
DTSTART;TZID=America/New_York:20260425T100000
DTEND;TZID=America/New_York:20260425T140000
DTSTAMP:20260424T083052
CREATED:20260329T114001Z
LAST-MODIFIED:20260329T114001Z
UID:22817-1777111200-1777125600@writersroomofboston.org
SUMMARY:Community Day April 25\, 2026 10AM - 2PM
DESCRIPTION:Members and fellows only. \nOur popular Community Days are back! Join us on Saturday\, April 25\, for a day of writing and camaraderie—with an emphasis on writing. Get inspired by working in a packed room. We’ll end our time together with an opportunity to listen to readings by any participant who wishes to read\, followed by an optional lunch. \nMake sure to sign up early—to ensure everyone has a desk\, we must limit this event to 11 registrants. \nThis event is free and open only to members and fellows. (Lunch $10; Venmo to Leslie) \nSaturday\, April 25 @ 10 a.m. – 2 p.m.\, in-person in the workspace.
URL:https://writersroomofboston.org/event/community-day-april-25-2026-10am-2pm/
CATEGORIES:In-person / in the Room
END:VEVENT
BEGIN:VEVENT
DTSTART;TZID=America/New_York:20260513T190000
DTEND;TZID=America/New_York:20260513T200000
DTSTAMP:20260424T083052
CREATED:20260313T170441Z
LAST-MODIFIED:20260313T170441Z
UID:22796-1778698800-1778702400@writersroomofboston.org
SUMMARY:WROB Board meeting May 13\, 2026 7PM
DESCRIPTION:Meeting of the Writers’ Room Board. All meetings are on line (Zoom)\, open to members\, fellows and by invitation to the public. Those wishing to attend should contact the Program Director\, Leslie Ostrow at info@writersroomofboston.org.
URL:https://writersroomofboston.org/event/wrob-board-meeting-may-13-2026-7pm/
CATEGORIES:On-line
ORGANIZER;CN="Leslie Ostrow":MAILTO:info@writersroomofboston.org
END:VEVENT
BEGIN:VEVENT
DTSTART;TZID=America/New_York:20260606T100000
DTEND;TZID=America/New_York:20260606T140000
DTSTAMP:20260424T083052
CREATED:20260329T114303Z
LAST-MODIFIED:20260329T114303Z
UID:22819-1780740000-1780754400@writersroomofboston.org
SUMMARY:Community Day June 6\, 2026 10AM - 2PM
DESCRIPTION:Members and fellows only. \nOur popular Community Days are back! Join us on Saturday\, June 6\, for a day of writing and camaraderie—with an emphasis on writing. Get inspired by working in a packed room. We’ll end our time together with an opportunity to listen to readings by any participant who wishes to read\, followed by an optional lunch. \nMake sure to sign up early—to ensure everyone has a desk\, we must limit this event to 11 registrants. \nThis event is free and open only to members and fellows. (Lunch $10; Venmo to Leslie) \nSaturday\, June 6 @ 10 a.m. – 2 p.m.\, in-person in the workspace.
URL:https://writersroomofboston.org/event/community-day-june-6-2026-10am-2pm/
CATEGORIES:In-person / in the Room
END:VEVENT
BEGIN:VEVENT
DTSTART;TZID=America/New_York:20260718T100000
DTEND;TZID=America/New_York:20260718T140000
DTSTAMP:20260424T083052
CREATED:20260329T114700Z
LAST-MODIFIED:20260329T114700Z
UID:22821-1784368800-1784383200@writersroomofboston.org
SUMMARY:Community Day July 18\, 2026 10AM - 2PM
DESCRIPTION:Members and fellows only. This is the last Community Day before the August recess. \nOur popular Community Days are back! Join us on Saturday\, July 18\, for a day of writing and camaraderie—with an emphasis on writing. Get inspired by working in a packed room. We’ll end our time together with an opportunity to listen to readings by any participant who wishes to read\, followed by an optional lunch. \nMake sure to sign up early—to ensure everyone has a desk\, we must limit this event to 11 registrants. \nThis event is free and open only to members and fellows. (Lunch $10; Venmo to Leslie) \nSaturday\, July 18 @ 10 a.m. – 2 p.m.\, in-person in the workspace.
URL:https://writersroomofboston.org/event/community-day-july-18-2026-10am-2pm/
CATEGORIES:In-person / in the Room
END:VEVENT
END:VCALENDAR